BEGIN:VCALENDAR
VERSION:2.0
PRODID:-//Ayuntamiento de El Paso - ECPv6.13.1//NONSGML v1.0//EN
CALSCALE:GREGORIAN
METHOD:PUBLISH
X-ORIGINAL-URL:https://elpaso.es
X-WR-CALDESC:Eventos para Ayuntamiento de El Paso
REFRESH-INTERVAL;VALUE=DURATION:PT1H
X-Robots-Tag:noindex
X-PUBLISHED-TTL:PT1H
BEGIN:VTIMEZONE
TZID:Atlantic/Canary
BEGIN:DAYLIGHT
TZOFFSETFROM:+0000
TZOFFSETTO:+0100
TZNAME:WEST
DTSTART:20240331T010000
END:DAYLIGHT
BEGIN:STANDARD
TZOFFSETFROM:+0100
TZOFFSETTO:+0000
TZNAME:WET
DTSTART:20241027T010000
END:STANDARD
BEGIN:DAYLIGHT
TZOFFSETFROM:+0000
TZOFFSETTO:+0100
TZNAME:WEST
DTSTART:20250330T010000
END:DAYLIGHT
BEGIN:STANDARD
TZOFFSETFROM:+0100
TZOFFSETTO:+0000
TZNAME:WET
DTSTART:20251026T010000
END:STANDARD
END:VTIMEZONE
BEGIN:VEVENT
DTSTART;TZID=Atlantic/Canary:20241003T080000
DTEND;TZID=Atlantic/Canary:20241015T140000
DTSTAMP:20260421T103353
CREATED:20241001T121636Z
LAST-MODIFIED:20241001T121636Z
UID:10000085-1727942400-1729000800@elpaso.es
SUMMARY:Abre el plazo de  matrícula del Aula  Municipal de Música
DESCRIPTION:El Ayuntamiento de El Paso abre el plazo de matrícula del Aula Municipal de Música para el Curso 2024 – 2025\, en sus diferentes especialidades. Una amplia oferta formativa gratuita\, impartida por profesores con titulación superior. ¡A partir de 6 años! \nPara más información y reserva de matrícula puedes dirigirte ala Concejalía de Cultura o llamar al 922485130\, ext. 210.\nTambién puedes contactar directamente con el equipo docente en los números 626335864 o 695113965.
URL:https://elpaso.es/evento/abre-el-plazo-de-matricula-del-aula-municipal-de-musica/
LOCATION:Santa Cruz de Tenerife
CATEGORIES:Banda Municipal,Cultura
ATTACH;FMTTYPE=image/jpeg:https://elpaso.es/wp-content/uploads/2024/10/4-MUSICA.jpg
ORGANIZER;CN="Ayto. de El Paso":MAILTO:ayuntamiento@elpaso.es
END:VEVENT
BEGIN:VEVENT
DTSTART;TZID=Atlantic/Canary:20241003T080000
DTEND;TZID=Atlantic/Canary:20241015T140000
DTSTAMP:20260421T103353
CREATED:20241001T121840Z
LAST-MODIFIED:20241001T121840Z
UID:10000086-1727942400-1729000800@elpaso.es
SUMMARY:Escuela Municipal de  Teatro de El Paso  ¡Matrícula Abierta!
DESCRIPTION:La Escuela Municipal de Teatro inicia una nueva temporada con el objetivo de seguir acercando la formación teatral a niños-as\, jóvenes y adultos. Esta formación se impartirá los lunes de 16:00h a 18:00h (Grupo Infantil) y de 18:00h a 20:00h (Grupo Juvenil – Adulto). \nPara más información y reserva de matrícula puedes dirigirte a la Concejalía de Cultura o llamar al 922485130\, ext. 210.
URL:https://elpaso.es/evento/escuela-municipal-de-teatro-de-el-paso-matricula-abierta/
LOCATION:Santa Cruz de Tenerife
CATEGORIES:Cultura
ATTACH;FMTTYPE=image/png:https://elpaso.es/wp-content/uploads/2024/10/5-TEATRO.png
ORGANIZER;CN="Ayto. de El Paso":MAILTO:ayuntamiento@elpaso.es
END:VEVENT
BEGIN:VEVENT
DTSTART;TZID=Atlantic/Canary:20241003T080000
DTEND;TZID=Atlantic/Canary:20241015T140000
DTSTAMP:20260421T103353
CREATED:20241001T122022Z
LAST-MODIFIED:20241001T122022Z
UID:10000087-1727942400-1729000800@elpaso.es
SUMMARY:Apertura del periodo de  inscripción del Aula  Municipal de Cuerda
DESCRIPTION:En las modalidades de timple\, guitarra\, laúd y bajo. A partir de 7 años.\nLas clases se ofrecerán lunes y jueves\, horarios según nivel. ¡Plazas limitadas! Para más información y reserva de matrícula puedes dirigirte a la Concejalía de Cultura o llamar al 922485130\, ext. 210.
URL:https://elpaso.es/evento/apertura-del-periodo-de-inscripcion-del-aula-municipal-de-cuerda/
LOCATION:Santa Cruz de Tenerife
CATEGORIES:Cultura
ATTACH;FMTTYPE=image/jpeg:https://elpaso.es/wp-content/uploads/2024/10/6-AULA-DE-CUERDA.jpg
ORGANIZER;CN="Ayto. de El Paso":MAILTO:ayuntamiento@elpaso.es
END:VEVENT
BEGIN:VEVENT
DTSTART;TZID=Atlantic/Canary:20241003T080000
DTEND;TZID=Atlantic/Canary:20241015T140000
DTSTAMP:20260421T103353
CREATED:20241001T122144Z
LAST-MODIFIED:20241001T122144Z
UID:10000088-1727942400-1729000800@elpaso.es
SUMMARY:Coral Nuestra Señora  del Pino ¿Te gusta  cantar?
DESCRIPTION:La Coral de Nuestra Señora del Pino te invita a formar parte de la agrupación y compartir su pasión por la música y el\ncanto.\nPara más información y reserva de matrícula puedes dirigirte a la Concejalía de Cultura o llamar al 922485130\, ext. 210.
URL:https://elpaso.es/evento/coral-nuestra-senora-del-pino-te-gusta-cantar/
LOCATION:Santa Cruz de Tenerife
CATEGORIES:Cultura
ATTACH;FMTTYPE=image/jpeg:https://elpaso.es/wp-content/uploads/2024/10/7-CORAL.jpg
ORGANIZER;CN="Ayto. de El Paso":MAILTO:ayuntamiento@elpaso.es
END:VEVENT
BEGIN:VEVENT
DTSTART;TZID=Atlantic/Canary:20241008T080000
DTEND;TZID=Atlantic/Canary:20241014T140000
DTSTAMP:20260421T103353
CREATED:20241001T141015Z
LAST-MODIFIED:20241001T141015Z
UID:10000102-1728374400-1728914400@elpaso.es
SUMMARY:Inscripciones abiertas  para el Curso de  Confección de Trajes  Tradicionales en Las  Manchas
DESCRIPTION:Todas aquellas personas interesadas en aprender a confeccionar la vestimenta tradicional\, ya pueden inscribirse en este nuevo curso impartido por la monitora Fátima Acosta Castro. Tendrá lugar todos los martes de 16:00h a 20:00h. \nMás información y reserva de plazas vía whatsApp a través del 679423579.
URL:https://elpaso.es/evento/inscripciones-abiertas-para-el-curso-de-confeccion-de-trajes-tradicionales-en-las-manchas/
LOCATION:Santa Cruz de Tenerife
CATEGORIES:Artesanía,Cultura
ATTACH;FMTTYPE=image/jpeg:https://elpaso.es/wp-content/uploads/2024/10/23-CURSO-LAS-MANCHAS.jpg
ORGANIZER;CN="Ayto. de El Paso":MAILTO:ayuntamiento@elpaso.es
END:VEVENT
BEGIN:VEVENT
DTSTART;TZID=Atlantic/Canary:20241015T100000
DTEND;TZID=Atlantic/Canary:20241015T100000
DTSTAMP:20260421T103353
CREATED:20241001T120700Z
LAST-MODIFIED:20241001T120700Z
UID:10000080-1728986400-1728986400@elpaso.es
SUMMARY:Club de Lectura Fácil con  Plena Inclusión Canaria
DESCRIPTION:‘Un espacio de encuentro para todas las personas’ es el lema de esta nueva actividad de lectura de la Biblioteca Municipal\, que se desarrolla en un ambiente accesible e inclusivo.\n#biblioteca
URL:https://elpaso.es/evento/club-de-lectura-facil-con-plena-inclusion-canaria-2/2024-10-15/
LOCATION:Casa de La Cultura\, Av. Islas Canarias\, 9\, El Paso\, Santa Cruz de Tenerife\, 38750\, España
CATEGORIES:Biblioteca
ATTACH;FMTTYPE=image/jpeg:https://elpaso.es/wp-content/uploads/2024/10/1-CLUB-DE-LECTURA-FACIL.jpg
ORGANIZER;CN="Ayto. de El Paso":MAILTO:ayuntamiento@elpaso.es
GEO:28.652841;-17.8800577
X-APPLE-STRUCTURED-LOCATION;VALUE=URI;X-ADDRESS=Casa de La Cultura Av. Islas Canarias 9 El Paso Santa Cruz de Tenerife 38750 España;X-APPLE-RADIUS=500;X-TITLE=Av. Islas Canarias\, 9:geo:-17.8800577,28.652841
END:VEVENT
BEGIN:VEVENT
DTSTART;TZID=Atlantic/Canary:20241016T170000
DTEND;TZID=Atlantic/Canary:20241016T200000
DTSTAMP:20260421T103353
CREATED:20241001T141350Z
LAST-MODIFIED:20241001T141350Z
UID:10000104-1729098000-1729108800@elpaso.es
SUMMARY:Talleres Atención  Psicológica Grupal
DESCRIPTION:El Paso acoge estos talleres dirigidos a la población afectada por el volcán\, organizados por el Cabildo de La Palma e impartidos por el Colegio Oficial de Psicología de Santa Cruz de Tenerife.\nMiércoles 9: Apoyo en el duelo y la pérdida\nMiércoles 16: Manejo del estrés y la ansiedad\nMiércoles 23: Resiliencia y fortalecimiento emocional\nMiércoles 30: Manejo de estrés postraumático
URL:https://elpaso.es/evento/talleres-atencion-psicologica-grupal/2024-10-16/
LOCATION:Casa de La Cultura\, Av. Islas Canarias\, 9\, El Paso\, Santa Cruz de Tenerife\, 38750\, España
CATEGORIES:Servicios Sociales
ATTACH;FMTTYPE=image/jpeg:https://elpaso.es/wp-content/uploads/2024/10/IMG-20240930-WA0019.jpg
ORGANIZER;CN="Ayto. de El Paso":MAILTO:ayuntamiento@elpaso.es
GEO:28.652841;-17.8800577
X-APPLE-STRUCTURED-LOCATION;VALUE=URI;X-ADDRESS=Casa de La Cultura Av. Islas Canarias 9 El Paso Santa Cruz de Tenerife 38750 España;X-APPLE-RADIUS=500;X-TITLE=Av. Islas Canarias\, 9:geo:-17.8800577,28.652841
END:VEVENT
BEGIN:VEVENT
DTSTART;TZID=Atlantic/Canary:20241016T190000
DTEND;TZID=Atlantic/Canary:20241016T203000
DTSTAMP:20260421T103353
CREATED:20241001T121239Z
LAST-MODIFIED:20241001T121239Z
UID:10000083-1729105200-1729110600@elpaso.es
SUMMARY:Tres sesiones del Club de  Lectura Temático para  adultos ‘El Cuarto  Inagotable’
DESCRIPTION:“Este mes\, comentaremos la cautivadora novel de Alana S. Portero: ‘La mala costumbre’. Además\, empezaremos una nueva lectura: ‘La seducción’ de Sara Torres\, que nos servirá para reflexionar en torno al deseo y a nuestra manera de relacionarnos sexo afectivamente. ¿Y sabes lo mejor? ¡Que tendremos a la autora en nuestro club para comentarlo con ella”\, nos adelanta la coordinadora Patricia Figuero.
URL:https://elpaso.es/evento/tres-sesiones-del-club-de-lectura-tematico-para-adultos-el-cuarto-inagotable/2024-10-16/
LOCATION:Casa de La Cultura\, Av. Islas Canarias\, 9\, El Paso\, Santa Cruz de Tenerife\, 38750\, España
CATEGORIES:Biblioteca
ATTACH;FMTTYPE=image/jpeg:https://elpaso.es/wp-content/uploads/2024/10/3-EL-CUARTO-INAGOTABLE-scaled.jpg
ORGANIZER;CN="Ayto. de El Paso":MAILTO:ayuntamiento@elpaso.es
GEO:28.652841;-17.8800577
X-APPLE-STRUCTURED-LOCATION;VALUE=URI;X-ADDRESS=Casa de La Cultura Av. Islas Canarias 9 El Paso Santa Cruz de Tenerife 38750 España;X-APPLE-RADIUS=500;X-TITLE=Av. Islas Canarias\, 9:geo:-17.8800577,28.652841
END:VEVENT
BEGIN:VEVENT
DTSTART;TZID=Atlantic/Canary:20241101T120000
DTEND;TZID=Atlantic/Canary:20241102T170000
DTSTAMP:20260421T103353
CREATED:20241031T102141Z
LAST-MODIFIED:20241031T102141Z
UID:10000109-1730462400-1730566800@elpaso.es
SUMMARY:Actos Finados 2024
DESCRIPTION:El Paso recuerda a sus seres queridos con los actos de\nFinados. El viernes tendrá lugar la ‘Misa de Todos Los\nSantos’ a las 12:00h y 17:00h\, y el sábado la ‘Misa de\nDifuntos’ a las 17:00h.\n#cementerio #servicios
URL:https://elpaso.es/evento/actos-finados-2024/
LOCATION:Santa Cruz de Tenerife
ATTACH;FMTTYPE=image/jpeg:https://elpaso.es/wp-content/uploads/2024/10/NP-20241030-ACONDICIONAMIENTO-CEMENTERIO-scaled.jpeg
ORGANIZER;CN="Ayto. de El Paso":MAILTO:ayuntamiento@elpaso.es
END:VEVENT
BEGIN:VEVENT
DTSTART;TZID=Atlantic/Canary:20241101T180000
DTEND;TZID=Atlantic/Canary:20241101T200000
DTSTAMP:20260421T103353
CREATED:20241031T102258Z
LAST-MODIFIED:20241031T102258Z
UID:10000110-1730484000-1730491200@elpaso.es
SUMMARY:Fútbol Primera División  Regional
DESCRIPTION:El primer evento deportivo del mes de noviembre enfrenta\nal C.D. Paso ATL La Rosa y al U.D. Los Llanos B.\n#deportes
URL:https://elpaso.es/evento/futbol-primera-division-regional/
LOCATION:Estadio Municipal\, C. Vista Alegre\, 37\, El Paso\, Santa Cruz de Tenerife\, 38750
CATEGORIES:Deportes
ATTACH;FMTTYPE=image/jpeg:https://elpaso.es/wp-content/uploads/2024/09/image00014-1.jpeg
ORGANIZER;CN="Ayto. de El Paso":MAILTO:ayuntamiento@elpaso.es
END:VEVENT
BEGIN:VEVENT
DTSTART;TZID=Atlantic/Canary:20241101T200000
DTEND;TZID=Atlantic/Canary:20241101T220000
DTSTAMP:20260421T103353
CREATED:20241031T102537Z
LAST-MODIFIED:20241031T102537Z
UID:10000111-1730491200-1730498400@elpaso.es
SUMMARY:C.B. Isla Bonita –  Escuela de Baloncesto
DESCRIPTION:En esta ocasión\, los aficionados podrán disfrutar de un\nencuentro de gran intensidad entre el C.B. Isla Bonita y\nEscuela de Baloncesto. ¡No faltes!\n#deportes
URL:https://elpaso.es/evento/c-b-isla-bonita-escuela-de-baloncesto/
LOCATION:Instalaciones Deportivas Municipales\, C. Sericícola\, 14\, El Paso\, Santa Cruz de Tenerife\, 38750\, España
CATEGORIES:Deportes
ATTACH;FMTTYPE=image/jpeg:https://elpaso.es/wp-content/uploads/2024/09/385785932_122145544700000415_8168292229368258876_n.jpg
ORGANIZER;CN="Ayto. de El Paso":MAILTO:ayuntamiento@elpaso.es
END:VEVENT
BEGIN:VEVENT
DTSTART;TZID=Atlantic/Canary:20241102T090000
DTEND;TZID=Atlantic/Canary:20241102T190000
DTSTAMP:20260421T103353
CREATED:20241031T102901Z
LAST-MODIFIED:20241031T102901Z
UID:10000112-1730538000-1730574000@elpaso.es
SUMMARY:VIII One Day Show  Gloster
DESCRIPTION:La octava edición de este concurso llega al municipio\,\nofreciendo a los amantes de la ornitología la oportunidad de\nadmirar una amplia variedad de ejemplares de la raza\nGloster y de compartir experiencias sobre las\nparticularidades de su proceso de cría.\n#cultura
URL:https://elpaso.es/evento/viii-one-day-show-gloster/
LOCATION:Recinto Ferial\, C/Paso de Abajo\, El Paso\, Santa Cruz de Tenerife\, 38750\, España
CATEGORIES:Cultura
ATTACH;FMTTYPE=image/jpeg:https://elpaso.es/wp-content/uploads/2024/10/Show.jpg
ORGANIZER;CN="Ayto. de El Paso":MAILTO:ayuntamiento@elpaso.es
END:VEVENT
BEGIN:VEVENT
DTSTART;TZID=Atlantic/Canary:20241103T120000
DTEND;TZID=Atlantic/Canary:20241103T140000
DTSTAMP:20260421T103353
CREATED:20241031T103006Z
LAST-MODIFIED:20241031T103006Z
UID:10000113-1730635200-1730642400@elpaso.es
SUMMARY:Encuentro C.D. Atlético  Paso 2ª RFEF
DESCRIPTION:El primer equipo del C.D. Atlético Paso se enfrentará en\ncasa al C.D. Illescas.\n#deportes
URL:https://elpaso.es/evento/encuentro-c-d-atletico-paso-2a-rfef-3/
LOCATION:Estadio Municipal\, C. Vista Alegre\, 37\, El Paso\, Santa Cruz de Tenerife\, 38750
CATEGORIES:Deportes
ATTACH;FMTTYPE=image/jpeg:https://elpaso.es/wp-content/uploads/2024/09/457663544_1041196398009059_3249603324299257120_n.jpg
ORGANIZER;CN="Ayto. de El Paso":MAILTO:ayuntamiento@elpaso.es
END:VEVENT
BEGIN:VEVENT
DTSTART;TZID=Atlantic/Canary:20241103T123000
DTEND;TZID=Atlantic/Canary:20241103T143000
DTSTAMP:20260421T103353
CREATED:20241031T103613Z
LAST-MODIFIED:20241031T103613Z
UID:10000114-1730637000-1730644200@elpaso.es
SUMMARY:Santa Misa en honor a  San Martín de Porres
DESCRIPTION:Celebración de la Festividad de San Martín de Porres con la\nSanta Misa.\n#fiestas #cultura
URL:https://elpaso.es/evento/santa-misa-en-honor-a-san-martin-de-porres/
LOCATION:Santa Cruz de Tenerife
CATEGORIES:Cultura,Fiestas
ATTACH;FMTTYPE=image/png:https://elpaso.es/wp-content/uploads/2024/10/CARTEL-SAN-MARTIN-DE-PORRES-2024-1.png
ORGANIZER;CN="Ayto. de El Paso":MAILTO:ayuntamiento@elpaso.es
END:VEVENT
BEGIN:VEVENT
DTSTART;TZID=Atlantic/Canary:20241104T090000
DTEND;TZID=Atlantic/Canary:20241108T130000
DTSTAMP:20260421T103353
CREATED:20241031T103804Z
LAST-MODIFIED:20241031T103804Z
UID:10000115-1730710800-1731070800@elpaso.es
SUMMARY:Inscripciones abiertas  para el Taller de Frivolité
DESCRIPTION:Todas aquellas personas interesadas en aprender a\nconfeccionar con la técnica de Frivolité\, ya pueden\ninscribirse en esta nueva formación organizada por el\nAyuntamiento de El Paso e impartida por María Jesús\nBarreto Padilla (Susa). Inicio: 12 de noviembre. Tendrá lugar\ntodos los martes y jueves de 16:00h a 20:00h en el Hogar de\nla Tercera Edad ‘Axerjo’. Más información y reserva de\nplazas en el 638666257.\n#artesanía #cultura
URL:https://elpaso.es/evento/inscripciones-abiertas-para-el-taller-de-frivolite/
LOCATION:Santa Cruz de Tenerife
CATEGORIES:Artesanía
ATTACH;FMTTYPE=image/jpeg:https://elpaso.es/wp-content/uploads/2024/10/5-Frivolite.jpg
ORGANIZER;CN="Ayto. de El Paso":MAILTO:ayuntamiento@elpaso.es
END:VEVENT
BEGIN:VEVENT
DTSTART;TZID=Atlantic/Canary:20241104T160000
DTEND;TZID=Atlantic/Canary:20241108T200000
DTSTAMP:20260421T103353
CREATED:20241031T104020Z
LAST-MODIFIED:20250122T183839Z
UID:10000116-1730736000-1731096000@elpaso.es
SUMMARY:Inicio Curso ‘Celador en  Instituciones Sanitarias’
DESCRIPTION:El Ayuntamiento de El Paso amplia su oferta de cursos con\nnovedosas propuestas mensuales gratuitas para las\npersonas empadronadas en el municipio.\n#formación
URL:https://elpaso.es/evento/inicio-curso-celador-en-instituciones-sanitarias/
LOCATION:Casa de La Cultura\, Av. Islas Canarias\, 9\, El Paso\, Santa Cruz de Tenerife\, 38750\, España
CATEGORIES:Curso
ATTACH;FMTTYPE=image/jpeg:https://elpaso.es/wp-content/uploads/2024/10/6-Celador.jpg
ORGANIZER;CN="Ayto. de El Paso":MAILTO:ayuntamiento@elpaso.es
GEO:28.652841;-17.8800577
X-APPLE-STRUCTURED-LOCATION;VALUE=URI;X-ADDRESS=Casa de La Cultura Av. Islas Canarias 9 El Paso Santa Cruz de Tenerife 38750 España;X-APPLE-RADIUS=500;X-TITLE=Av. Islas Canarias\, 9:geo:-17.8800577,28.652841
END:VEVENT
BEGIN:VEVENT
DTSTART;TZID=Atlantic/Canary:20241105T100000
DTEND;TZID=Atlantic/Canary:20241105T120000
DTSTAMP:20260421T103353
CREATED:20241031T104555Z
LAST-MODIFIED:20241031T104555Z
UID:10000117-1730800800-1730808000@elpaso.es
SUMMARY:Club de Lectura Fácil con  Plena Inclusión Canaria
DESCRIPTION:‘Un espacio de encuentro para todas las personas’ es el\nlema de esta novedosa actividad de lectura de la Biblioteca\nMunicipal\, que se desarrolla en un ambiente accesible e\ninclusivo.\n#biblioteca
URL:https://elpaso.es/evento/club-de-lectura-facil-con-plena-inclusion-canaria-3/2024-11-05/
LOCATION:Casa de La Cultura\, Av. Islas Canarias\, 9\, El Paso\, Santa Cruz de Tenerife\, 38750\, España
CATEGORIES:Biblioteca
ATTACH;FMTTYPE=image/jpeg:https://elpaso.es/wp-content/uploads/2024/10/7-Lectura.jpg
ORGANIZER;CN="Ayto. de El Paso":MAILTO:ayuntamiento@elpaso.es
GEO:28.652841;-17.8800577
X-APPLE-STRUCTURED-LOCATION;VALUE=URI;X-ADDRESS=Casa de La Cultura Av. Islas Canarias 9 El Paso Santa Cruz de Tenerife 38750 España;X-APPLE-RADIUS=500;X-TITLE=Av. Islas Canarias\, 9:geo:-17.8800577,28.652841
END:VEVENT
BEGIN:VEVENT
DTSTART;TZID=Atlantic/Canary:20241107T080000
DTEND;TZID=Atlantic/Canary:20241108T170000
DTSTAMP:20260421T103353
CREATED:20241031T105131Z
LAST-MODIFIED:20241031T105131Z
UID:10000121-1730966400-1731085200@elpaso.es
SUMMARY:Jornadas ‘La Infancia\,  Víctima invisible de la  violencia de género’
DESCRIPTION:Estas jornadas representan una oportunidad crucial para que\nprofesionales de diversos sectores puedan intercambiar\nconocimientos y enfoques prácticos sobre cómo proteger a las\npersonas más vulnerables en situaciones de violencia de género. \nEntre los ponentes se encuentran: Carmen D. Álamo\, Montse Plaza\, Pablo\nNieva\, Raúl Lizana\, Paula Reyes\, Laura Rodríguez e Itziar Fernández.\nLas inscripciones estarán abiertas hasta el 3 de noviembre y pueden\nrealizarse a través de la página web La Palma contra la Violencia.\nOrganiza Cabildo de La Palma\, colabora Ayuntamiento de El Paso.\n#serviciossociales #menores
URL:https://elpaso.es/evento/jornadas-la-infancia-victima-invisible-de-la-violencia-de-genero/
LOCATION:Santa Cruz de Tenerife
CATEGORIES:Servicios Sociales
ATTACH;FMTTYPE=image/jpeg:https://elpaso.es/wp-content/uploads/2024/10/Jornadas-Infancia-scaled.jpg
ORGANIZER;CN="Ayto. de El Paso":MAILTO:ayuntamiento@elpaso.es
END:VEVENT
BEGIN:VEVENT
DTSTART;TZID=Atlantic/Canary:20241107T193000
DTEND;TZID=Atlantic/Canary:20241107T203000
DTSTAMP:20260421T103353
CREATED:20241031T105502Z
LAST-MODIFIED:20241031T105502Z
UID:10000122-1731007800-1731011400@elpaso.es
SUMMARY:II Ciclo de Narración  Oral para público  escolar y adolescente
DESCRIPTION:El municipio consolida con excelente acogida este proyecto\nde animación a la lectura para público escolar y\nadolescentes. Con sesiones de cuentos mensuales que en\nnoviembre llegan de la mano de María Buenadicha.\n#juventud #bibliotec
URL:https://elpaso.es/evento/ii-ciclo-de-narracion-oral-para-publico-escolar-y-adolescente-4/
LOCATION:Casa de La Cultura\, Av. Islas Canarias\, 9\, El Paso\, Santa Cruz de Tenerife\, 38750\, España
CATEGORIES:Biblioteca
ATTACH;FMTTYPE=image/jpeg:https://elpaso.es/wp-content/uploads/2024/10/9-Palabras.jpg
ORGANIZER;CN="Ayto. de El Paso":MAILTO:ayuntamiento@elpaso.es
GEO:28.652841;-17.8800577
X-APPLE-STRUCTURED-LOCATION;VALUE=URI;X-ADDRESS=Casa de La Cultura Av. Islas Canarias 9 El Paso Santa Cruz de Tenerife 38750 España;X-APPLE-RADIUS=500;X-TITLE=Av. Islas Canarias\, 9:geo:-17.8800577,28.652841
END:VEVENT
BEGIN:VEVENT
DTSTART;TZID=Atlantic/Canary:20241108T100000
DTEND;TZID=Atlantic/Canary:20241108T113000
DTSTAMP:20260421T103353
CREATED:20241031T132941Z
LAST-MODIFIED:20241031T132941Z
UID:10000123-1731060000-1731065400@elpaso.es
SUMMARY:Al agua patos’ con  Isabel Bolívar
DESCRIPTION:Esta nueva actividad de Bebecuentos\, con doble sesión a las\n10:00h y a las 10:30h\, está dirigida al alumnado de la\nEscuela Infantil Doña Carmela. Cuentos\, canciones\, gestos y\nsonidos captarán la atención de los más pequeños\,\nestimulando su desarrollo sensorial y emocional.\n#biblioteca
URL:https://elpaso.es/evento/al-agua-patos-con-isabel-bolivar/
LOCATION:Escuela Infantil Doña Carmela\, C. Antonio Gonzalez Suarez\, 8\, El Paso\, Santa Cruz de Tenerife\, 38750\, España
CATEGORIES:Biblioteca
ATTACH;FMTTYPE=image/jpeg:https://elpaso.es/wp-content/uploads/2024/10/10-Patos.jpg
ORGANIZER;CN="Ayto. de El Paso":MAILTO:ayuntamiento@elpaso.es
END:VEVENT
BEGIN:VEVENT
DTSTART;TZID=Atlantic/Canary:20241109T090000
DTEND;TZID=Atlantic/Canary:20241109T140000
DTSTAMP:20260421T103353
CREATED:20241031T133228Z
LAST-MODIFIED:20241031T133228Z
UID:10000124-1731142800-1731160800@elpaso.es
SUMMARY:Concentración Insular  de Promoción Deportiva  de Judo
DESCRIPTION:Este encuentro reunirá en El Paso a jóvenes judokas de\ndiferentes edades\, con el fin de mejorar sus habilidades\ntécnicas\, físicas y mentales.\n#deportes
URL:https://elpaso.es/evento/concentracion-insular-de-promocion-deportiva-de-judo/
LOCATION:Instalaciones Deportivas Municipales\, C. Sericícola\, 14\, El Paso\, Santa Cruz de Tenerife\, 38750\, España
CATEGORIES:Deportes
ATTACH;FMTTYPE=image/jpeg:https://elpaso.es/wp-content/uploads/2024/10/449519322_865523365605868_2627423091351148429_n.jpg
ORGANIZER;CN="Ayto. de El Paso":MAILTO:ayuntamiento@elpaso.es
END:VEVENT
BEGIN:VEVENT
DTSTART;TZID=Atlantic/Canary:20241109T090000
DTEND;TZID=Atlantic/Canary:20241109T160000
DTSTAMP:20260421T103353
CREATED:20241031T133537Z
LAST-MODIFIED:20241031T133537Z
UID:10000125-1731142800-1731168000@elpaso.es
SUMMARY:Concentración Insular de Promoción Deportiva  de Mini Voleibol
DESCRIPTION:Incentivar la práctica del voleibol entre los más jóvenes\, así\ncomo crear nuevos espacios de convivencia entre\ndeportistas de diferentes municipios\, es el principal objetivo\nde este evento.\n#deportes
URL:https://elpaso.es/evento/concentracion-insular-de-promocion-deportiva-de-mini-voleibol/
LOCATION:Instalaciones Deportivas Municipales\, C. Sericícola\, 14\, El Paso\, Santa Cruz de Tenerife\, 38750\, España
CATEGORIES:Deportes
ATTACH;FMTTYPE=image/jpeg:https://elpaso.es/wp-content/uploads/2024/10/401019126_722052599952946_569382722523271262_n.jpg
ORGANIZER;CN="Ayto. de El Paso":MAILTO:ayuntamiento@elpaso.es
END:VEVENT
BEGIN:VEVENT
DTSTART;TZID=Atlantic/Canary:20241109T110000
DTEND;TZID=Atlantic/Canary:20241109T120000
DTSTAMP:20260421T103353
CREATED:20241031T133806Z
LAST-MODIFIED:20241031T133806Z
UID:10000126-1731150000-1731153600@elpaso.es
SUMMARY:‘BBeCuentos’ con Isabel  Bolívar
DESCRIPTION:Acercar la creatividad e imaginación a los más pequeños es\nel propósito de ‘BBeCuentos’\, actividad gratuita dirigida a\nfamilias con bebés de 6 a 36 meses.\n#biblioteca
URL:https://elpaso.es/evento/bbecuentos-con-isabel-bolivar/
LOCATION:Escuela Infantil Doña Carmela\, C. Antonio Gonzalez Suarez\, 8\, El Paso\, Santa Cruz de Tenerife\, 38750\, España
CATEGORIES:Biblioteca
ATTACH;FMTTYPE=image/jpeg:https://elpaso.es/wp-content/uploads/2024/10/13-Cuentos.jpg
ORGANIZER;CN="Ayto. de El Paso":MAILTO:ayuntamiento@elpaso.es
END:VEVENT
BEGIN:VEVENT
DTSTART;TZID=Atlantic/Canary:20250108T083000
DTEND;TZID=Atlantic/Canary:20250108T140000
DTSTAMP:20260421T103353
CREATED:20250107T131118Z
LAST-MODIFIED:20250107T131124Z
UID:10000147-1736325000-1736344800@elpaso.es
SUMMARY:¡Comienza el segundo trimestre! Preparados para la vuelta al cole
DESCRIPTION:Tras las vacaciones navideñas\, las familias y el profesorado pasense retoman la rutina escolar dando la bienvenida al segundo trimestre.
URL:https://elpaso.es/evento/comienza-el-segundo-trimestre-preparados-para-la-vuelta-al-cole/
LOCATION:Centros Educativos del Municipio\, El Paso\, Santa Cruz de Tenerife\, 38750\, España
CATEGORIES:Educación
ATTACH;FMTTYPE=image/jpeg:https://elpaso.es/wp-content/uploads/2025/01/vueltaalcole.jpg
ORGANIZER;CN="Ayto. de El Paso":MAILTO:ayuntamiento@elpaso.es
END:VEVENT
BEGIN:VEVENT
DTSTART;TZID=Atlantic/Canary:20250108T120000
DTEND;TZID=Atlantic/Canary:20250108T130000
DTSTAMP:20260421T103353
CREATED:20250107T130610Z
LAST-MODIFIED:20250107T130927Z
UID:10000146-1736337600-1736341200@elpaso.es
SUMMARY:Vuelve el Café de las Doce
DESCRIPTION:Regresa este espacio de convivencia y de crecimiento personal donde las usuarias compartirán diferentes herramientas de autocuidado. \nDirigido a mujeres mayores de 65 años. \nMás información e inscripciones en el 610309202 (Amalia).
URL:https://elpaso.es/evento/vuelve-el-cafe-de-las-doce/
LOCATION:Centro de Mayores Axerjo\, C. Tanausú\, 2\, El Paso\, Santa Cruz de Tenerife\, 38750\, España
CATEGORIES:Mujeres,Servicios Sociales
ATTACH;FMTTYPE=image/jpeg:https://elpaso.es/wp-content/uploads/2025/01/11-Cafe-de-las-Doce.jpg
ORGANIZER;CN="Ayto. de El Paso":MAILTO:ayuntamiento@elpaso.es
END:VEVENT
BEGIN:VEVENT
DTSTART;VALUE=DATE:20250110
DTEND;VALUE=DATE:20250111
DTSTAMP:20260421T103353
CREATED:20250107T122716Z
LAST-MODIFIED:20250107T122716Z
UID:10000145-1736467200-1736553599@elpaso.es
SUMMARY:Baloncesto: C.B. Basket Paso –  C.B. Aridane Jun
DESCRIPTION:Pendiente de confirmación\nEl C.B. Basket El Paso comienza el año enfrentándose en la cancha municipal al C.B. Aridane Jun.
URL:https://elpaso.es/evento/baloncesto-c-b-basket-paso-c-b-aridane-jun/
LOCATION:Pabellón municipal\, C. Sericícola\, 14\, El Paso\, Santa Cruz de Tenerife\, 38750\, España
CATEGORIES:Deportes
ATTACH;FMTTYPE=image/jpeg:https://elpaso.es/wp-content/uploads/2025/01/baloncesto.jpg
ORGANIZER;CN="Ayto. de El Paso":MAILTO:ayuntamiento@elpaso.es
END:VEVENT
BEGIN:VEVENT
DTSTART;TZID=Atlantic/Canary:20250111T160000
DTEND;TZID=Atlantic/Canary:20250111T180000
DTSTAMP:20260421T103353
CREATED:20250107T122455Z
LAST-MODIFIED:20250107T122457Z
UID:10000144-1736611200-1736618400@elpaso.es
SUMMARY:Baloncesto Femenino: C.B. Isla Bonita – C.B. Aikitas Basket Fijaciones
DESCRIPTION:El Pabellón Municipal de El Paso es el escenario elegido para la celebración de este nuevo encuentro de baloncesto femenino entre el C.B. Isla Bonita y C.B. Aikitas Basket Fijaciones.
URL:https://elpaso.es/evento/baloncesto-femenino-c-b-isla-bonita-c-b-aikitas-basket-fijaciones/
LOCATION:Pabellón municipal\, C. Sericícola\, 14\, El Paso\, Santa Cruz de Tenerife\, 38750\, España
CATEGORIES:Deportes
ATTACH;FMTTYPE=image/jpeg:https://elpaso.es/wp-content/uploads/2025/01/cbislabonita.jpg
ORGANIZER;CN="Ayto. de El Paso":MAILTO:ayuntamiento@elpaso.es
END:VEVENT
BEGIN:VEVENT
DTSTART;TZID=Atlantic/Canary:20250112T093000
DTEND;TZID=Atlantic/Canary:20250112T233000
DTSTAMP:20260421T103353
CREATED:20250107T120659Z
LAST-MODIFIED:20250107T122134Z
UID:10000143-1736674200-1736724600@elpaso.es
SUMMARY:Campeonato de Canarias de Campo a Través
DESCRIPTION:El municipio se prepara para una nueva edición de esta prueba deportiva\, que promete atraer a una amplia participación en diversas categorías\, incluyendo Individual\, Sub 20\, Sub 23\, Absoluto y Máster.
URL:https://elpaso.es/evento/campeonato-de-canarias-de-campo-a-traves/
LOCATION:Circuito El Vendaval\, Carr. Caldera Taburiente\, El Paso\, Santa Cruz de Tenerife\, 38750\, España
CATEGORIES:Deportes
ATTACH;FMTTYPE=image/jpeg:https://elpaso.es/wp-content/uploads/2025/01/campoatraves.jpg
ORGANIZER;CN="Ayto. de El Paso":MAILTO:ayuntamiento@elpaso.es
GEO:28.6639117;-17.8518341
X-APPLE-STRUCTURED-LOCATION;VALUE=URI;X-ADDRESS=Circuito El Vendaval Carr. Caldera Taburiente El Paso Santa Cruz de Tenerife 38750 España;X-APPLE-RADIUS=500;X-TITLE=Carr. Caldera Taburiente:geo:-17.8518341,28.6639117
END:VEVENT
BEGIN:VEVENT
DTSTART;TZID=Atlantic/Canary:20250112T110000
DTEND;TZID=Atlantic/Canary:20250112T130000
DTSTAMP:20260421T103353
CREATED:20250107T114519Z
LAST-MODIFIED:20250107T132134Z
UID:10000142-1736679600-1736686800@elpaso.es
SUMMARY:C.D. Atlético Paso – C.D. Guadalajara 2ª RFEF
DESCRIPTION:Para comenzar el 2025\, la plantilla verdinegra disputa este encuentro frente al C.D. Guadalajara.
URL:https://elpaso.es/evento/c-d-atletico-paso-c-d-guadalajara-2a-rfef/
LOCATION:Estadio Municipal\, C. Vista Alegre\, 37\, El Paso\, Santa Cruz de Tenerife\, 38750
CATEGORIES:Deportes
ATTACH;FMTTYPE=image/jpeg:https://elpaso.es/wp-content/uploads/2025/01/atleticopasosenior.jpg
ORGANIZER;CN="C.D. Atl%C3%A9tico Paso":MAILTO:atle.paso@gmail.com
END:VEVENT
BEGIN:VEVENT
DTSTART;TZID=Atlantic/Canary:20250112T120000
DTEND;TZID=Atlantic/Canary:20250112T140000
DTSTAMP:20260421T103353
CREATED:20250107T113453Z
LAST-MODIFIED:20250107T113453Z
UID:10000140-1736683200-1736690400@elpaso.es
SUMMARY:Lucha Canaria Femenina C.L. Tenercina – C.L. Santa Rita
DESCRIPTION:El terrero volverá a vibrar con toda la adrenalina y la pasión por la lucha canaria.
URL:https://elpaso.es/evento/lucha-canaria-femenina-c-l-tenercina-c-l-santa-rita/
LOCATION:Pabellón municipal\, C. Sericícola\, 14\, El Paso\, Santa Cruz de Tenerife\, 38750\, España
CATEGORIES:Deportes
ATTACH;FMTTYPE=image/jpeg:https://elpaso.es/wp-content/uploads/2025/01/clubluchatenercina.jpg
ORGANIZER;CN="Ayto. de El Paso":MAILTO:ayuntamiento@elpaso.es
END:VEVENT
END:VCALENDAR